BEGIN:VCALENDAR
VERSION:2.0
PRODID:-//Oldtimer Veranstaltungen - ECPv6.13.0//NONSGML v1.0//EN
CALSCALE:GREGORIAN
METHOD:PUBLISH
X-ORIGINAL-URL:https://oldtimer-veranstaltungen.ch
X-WR-CALDESC:Veranstaltungen im Oldtimer Veranstaltungen
REFRESH-INTERVAL;VALUE=DURATION:PT1H
X-Robots-Tag:noindex
X-PUBLISHED-TTL:PT1H
BEGIN:VTIMEZONE
TZID:Europe/Zurich
BEGIN:DAYLIGHT
TZOFFSETFROM:+0100
TZOFFSETTO:+0200
TZNAME:CEST
DTSTART:20250330T010000
END:DAYLIGHT
BEGIN:STANDARD
TZOFFSETFROM:+0200
TZOFFSETTO:+0100
TZNAME:CET
DTSTART:20251026T010000
END:STANDARD
END:VTIMEZONE
BEGIN:VEVENT
DTSTART;TZID=Europe/Zurich:20250426T080000
DTEND;TZID=Europe/Zurich:20250426T170000
DTSTAMP:20260425T235024
CREATED:20241117T121355Z
LAST-MODIFIED:20241117T121355Z
UID:1363-1745654400-1745686800@oldtimer-veranstaltungen.ch
SUMMARY:19. ADAC Metz Rallye Classic
DESCRIPTION:Oldtimer Rallye. Gleichmäßigkeitsprüfungen für Historische Fahrzeuge.
URL:https://oldtimer-veranstaltungen.ch/event/19-adac-metz-rallye-classic/
LOCATION:Stein\, Germany
END:VEVENT
END:VCALENDAR