BEGIN:VCALENDAR
VERSION:2.0
PRODID:-//Oldtimer Veranstaltungen - ECPv6.13.0//NONSGML v1.0//EN
CALSCALE:GREGORIAN
METHOD:PUBLISH
X-WR-CALNAME:Oldtimer Veranstaltungen
X-ORIGINAL-URL:https://oldtimer-veranstaltungen.ch
X-WR-CALDESC:Veranstaltungen im Oldtimer Veranstaltungen
REFRESH-INTERVAL;VALUE=DURATION:PT1H
X-Robots-Tag:noindex
X-PUBLISHED-TTL:PT1H
BEGIN:VTIMEZONE
TZID:Europe/Zurich
BEGIN:DAYLIGHT
TZOFFSETFROM:+0100
TZOFFSETTO:+0200
TZNAME:CEST
DTSTART:20250330T010000
END:DAYLIGHT
BEGIN:STANDARD
TZOFFSETFROM:+0200
TZOFFSETTO:+0100
TZNAME:CET
DTSTART:20251026T010000
END:STANDARD
END:VTIMEZONE
BEGIN:VEVENT
DTSTART;TZID=Europe/Zurich:20250605T080000
DTEND;TZID=Europe/Zurich:20250608T170000
DTSTAMP:20260425T154130
CREATED:20250525T151054Z
LAST-MODIFIED:20250525T151941Z
UID:1848-1749110400-1749402000@oldtimer-veranstaltungen.ch
SUMMARY:13. Summer Marathon
DESCRIPTION:Die Summer Marathon Anfang Juni vereint Oldtimer-Rallye\, Kultur\, Kulinarik und Natur. Drei Etappen\, 692 km durch faszinierende Landschaften – ein Erlebnis für Genießer.
URL:https://oldtimer-veranstaltungen.ch/event/13-summer-marathon/
LOCATION:Lago di Como\, Switzerland
CATEGORIES:Oldtimer Rallye
END:VEVENT
END:VCALENDAR